BEGIN:VCALENDAR
VERSION:2.0
PRODID:-//www.cuddleoutreach.org//NONSGML kigkonsult.se iCalcreator 2.30.10
 //
CALSCALE:GREGORIAN
METHOD:PUBLISH
UID:ff54edfe-4c2e-4d97-b742-64ddd841ed59
X-WR-CALDESC:Calling all crafters and potential quilters of all ages!\nCome
  and learn how to paint\, sew\, upscale clothing\, rock paint\, etc. \n$15
  per class\, all supplies provided. \nPreregister at the C.U.D.D.L.E. offi
 ce or call (928) 645-2944\nBeginning June 7th\, come learn with us!
X-WR-RELCALID:6f67395e7364bf9ee21a360673531720
X-WR-TIMEZONE:America/Denver
BEGIN:VTIMEZONE
TZID:America/Denver
BEGIN:STANDARD
TZNAME:MST
DTSTART:20201101T020000
TZOFFSETFROM:-0600
TZOFFSETTO:-0700
RDATE:20211107T020000
RDATE:20221106T020000
END:STANDARD
BEGIN:DAYLIGHT
TZNAME:MDT
DTSTART:20210314T020000
TZOFFSETFROM:-0700
TZOFFSETTO:-0600
RDATE:20220313T020000
END:DAYLIGHT
END:VTIMEZONE
BEGIN:VEVENT
UID:3e17529c-4031-4e5e-8311-2f5fe5a310a8
DTSTAMP:20260424T082455Z
DESCRIPTION:Calling all crafters and potential quilters of all ages!\nCome 
 and learn how to paint\, sew\, upscale clothing\, rock paint\, etc. \n$15 
 per class\, all supplies provided. \nPreregister at the C.U.D.D.L.E. offic
 e or call (928) 645-2944\nBeginning June 7th\, come learn with us!
DTSTART;TZID=America/Denver:20210630T000000
DTEND;TZID=America/Denver:20210630T235900
LOCATION:842 Vista\, Page\, AZ 86040 US
SUMMARY:C.U.D.D.L.E Art and Sewing Summer classes
END:VEVENT
END:VCALENDAR
